BEGIN:VCALENDAR
VERSION:2.0
PRODID:-//IRFU Charitable Trust - ECPv6.15.20//NONSGML v1.0//EN
CALSCALE:GREGORIAN
METHOD:PUBLISH
X-ORIGINAL-URL:https://irfucharitabletrust.com
X-WR-CALDESC:Events for IRFU Charitable Trust
REFRESH-INTERVAL;VALUE=DURATION:PT1H
X-Robots-Tag:noindex
X-PUBLISHED-TTL:PT1H
BEGIN:VTIMEZONE
TZID:Europe/London
BEGIN:DAYLIGHT
TZOFFSETFROM:+0000
TZOFFSETTO:+0100
TZNAME:BST
DTSTART:20250330T010000
END:DAYLIGHT
BEGIN:STANDARD
TZOFFSETFROM:+0100
TZOFFSETTO:+0000
TZNAME:GMT
DTSTART:20251026T010000
END:STANDARD
BEGIN:DAYLIGHT
TZOFFSETFROM:+0000
TZOFFSETTO:+0100
TZNAME:BST
DTSTART:20260329T010000
END:DAYLIGHT
BEGIN:STANDARD
TZOFFSETFROM:+0100
TZOFFSETTO:+0000
TZNAME:GMT
DTSTART:20261025T010000
END:STANDARD
BEGIN:DAYLIGHT
TZOFFSETFROM:+0000
TZOFFSETTO:+0100
TZNAME:BST
DTSTART:20270328T010000
END:DAYLIGHT
BEGIN:STANDARD
TZOFFSETFROM:+0100
TZOFFSETTO:+0000
TZNAME:GMT
DTSTART:20271031T010000
END:STANDARD
END:VTIMEZONE
BEGIN:VEVENT
DTSTART;TZID=Europe/London:20260619T113000
DTEND;TZID=Europe/London:20260619T223000
DTSTAMP:20260423T021423
CREATED:20250728T110008Z
LAST-MODIFIED:20260326T185002Z
UID:10000147-1781868600-1781908200@irfucharitabletrust.com
SUMMARY:IRFU Charitable Trust 2026 “Irish Rugby 150th Golf Cup” and Cork Munster Charity Golf Outing
DESCRIPTION:
URL:https://irfucharitabletrust.com/event/irish-rugby-150th-golf-cup-2026-munster-charity-golf-outing/
LOCATION:Fota Island Golf Club\, Fota Island Resort\, Co. Cork\, T45 HW72\, Ireland
CATEGORIES:Events
ATTACH;FMTTYPE=image/jpeg:https://irfucharitabletrust.com/wp-content/uploads/2025/07/IRFU-Charitable-Trust-2026-Irish-Rugby-150th-Golf-Cup-Cork-Munster-Charity-Golf-Outing-sqr.jpg
END:VEVENT
END:VCALENDAR