BEGIN:VCALENDAR
VERSION:2.0
PRODID:-//IRFU Charitable Trust - ECPv6.15.20//NONSGML v1.0//EN
CALSCALE:GREGORIAN
METHOD:PUBLISH
X-ORIGINAL-URL:https://irfucharitabletrust.com
X-WR-CALDESC:Events for IRFU Charitable Trust
REFRESH-INTERVAL;VALUE=DURATION:PT1H
X-Robots-Tag:noindex
X-PUBLISHED-TTL:PT1H
BEGIN:VTIMEZONE
TZID:Europe/London
BEGIN:DAYLIGHT
TZOFFSETFROM:+0000
TZOFFSETTO:+0100
TZNAME:BST
DTSTART:20240331T010000
END:DAYLIGHT
BEGIN:STANDARD
TZOFFSETFROM:+0100
TZOFFSETTO:+0000
TZNAME:GMT
DTSTART:20241027T010000
END:STANDARD
BEGIN:DAYLIGHT
TZOFFSETFROM:+0000
TZOFFSETTO:+0100
TZNAME:BST
DTSTART:20250330T010000
END:DAYLIGHT
BEGIN:STANDARD
TZOFFSETFROM:+0100
TZOFFSETTO:+0000
TZNAME:GMT
DTSTART:20251026T010000
END:STANDARD
BEGIN:DAYLIGHT
TZOFFSETFROM:+0000
TZOFFSETTO:+0100
TZNAME:BST
DTSTART:20260329T010000
END:DAYLIGHT
BEGIN:STANDARD
TZOFFSETFROM:+0100
TZOFFSETTO:+0000
TZNAME:GMT
DTSTART:20261025T010000
END:STANDARD
END:VTIMEZONE
BEGIN:VEVENT
DTSTART;TZID=Europe/London:20250606T113000
DTEND;TZID=Europe/London:20250606T220000
DTSTAMP:20260423T143156
CREATED:20240816T110058Z
LAST-MODIFIED:20250409T153616Z
UID:10000142-1749209400-1749247200@irfucharitabletrust.com
SUMMARY:IRFU Charitable Trust “Irish Rugby 150th Golf Cup” and the 2025 Leinster Charity Golf Outing at The K Club
DESCRIPTION:
URL:https://irfucharitabletrust.com/event/2025-leinster-charity-golf-outing/
LOCATION:The K Club\, Straffan\, Kildare\, Co. Kildare\, W23YX53\, Ireland
ATTACH;FMTTYPE=image/jpeg:https://irfucharitabletrust.com/wp-content/uploads/2024/08/IRFU-Charitable-Trust-2025-Leinster-Charity-Golf-Outing-Irish-Rugby-150th-Golf-Cup.jpg
END:VEVENT
BEGIN:VEVENT
DTSTART;TZID=Europe/London:20250627T113000
DTEND;TZID=Europe/London:20250627T220000
DTSTAMP:20260423T143156
CREATED:20240812T110053Z
LAST-MODIFIED:20240813T113911Z
UID:10000141-1751023800-1751061600@irfucharitabletrust.com
SUMMARY:2025 Munster Charity Golf Outing in aid of seriously injured rugby players
DESCRIPTION:
URL:https://irfucharitabletrust.com/event/2025-munster-charity-golf-outing/
LOCATION:Fota Island Golf Club\, Fota Island Resort\, Co. Cork\, T45 HW72\, Ireland
CATEGORIES:Events
ATTACH;FMTTYPE=image/jpeg:https://irfucharitabletrust.com/wp-content/uploads/2024/08/IRFU-Charitable-Trust-2025-Munster-Charity-Golf-Outing-Fri-27Jun25-Sqr.jpg
END:VEVENT
END:VCALENDAR